Package: beadarraySNP Version: 1.66.0 Command: /home/biocbuild/bbs-3.17-bioc/R/bin/R CMD check --install=check:beadarraySNP.install-out.txt --library=/home/biocbuild/bbs-3.17-bioc/R/site-library --timings beadarraySNP_1.66.0.tar.gz StartedAt: 2023-10-15 19:27:24 -0400 (Sun, 15 Oct 2023) EndedAt: 2023-10-15 19:28:43 -0400 (Sun, 15 Oct 2023) EllapsedTime: 79.1 seconds RetCode: 0 Status: OK CheckDir: beadarraySNP.Rcheck Warnings: 0