Package: beadarraySNP Version: 1.66.0 Command: /Library/Frameworks/R.framework/Resources/bin/R CMD build --keep-empty-dirs --no-resave-data beadarraySNP StartedAt: 2023-10-15 16:52:46 -0400 (Sun, 15 Oct 2023) EndedAt: 2023-10-15 16:53:51 -0400 (Sun, 15 Oct 2023) EllapsedTime: 64.8 seconds RetCode: 0 Status: OK PackageFile: beadarraySNP_1.66.0.tar.gz PackageFileSize: 666.7 KiB