Package: beadarray Version: 2.50.0 Command: F:\biocbuild\bbs-3.17-bioc\R\bin\R.exe CMD INSTALL beadarray StartedAt: 2023-10-15 16:10:14 -0400 (Sun, 15 Oct 2023) EndedAt: 2023-10-15 16:10:58 -0400 (Sun, 15 Oct 2023) EllapsedTime: 43.9 seconds RetCode: 0 Status: OK