Package: beadarray Version: 2.50.0 Command: /home/biocbuild/bbs-3.17-bioc/R/bin/R CMD build --keep-empty-dirs --no-resave-data beadarray StartedAt: 2023-10-15 16:01:02 -0400 (Sun, 15 Oct 2023) EndedAt: 2023-10-15 16:03:35 -0400 (Sun, 15 Oct 2023) EllapsedTime: 152.9 seconds RetCode: 0 Status: OK PackageFile: beadarray_2.50.0.tar.gz PackageFileSize: 2.333 MiB