Package: basilisk Version: 1.12.1 Command: chmod a+r basilisk -R && F:\biocbuild\bbs-3.17-bioc\R\bin\R.exe CMD build --keep-empty-dirs --no-resave-data basilisk StartedAt: 2023-10-15 17:29:04 -0400 (Sun, 15 Oct 2023) EndedAt: 2023-10-15 17:41:28 -0400 (Sun, 15 Oct 2023) EllapsedTime: 744.0 seconds RetCode: 0 Status: OK PackageFile: basilisk_1.12.1.tar.gz PackageFileSize: 261.1 KiB