Package: basilisk Version: 1.12.1 Command: rm -rf basilisk.buildbin-libdir && mkdir basilisk.buildbin-libdir && F:\biocbuild\bbs-3.17-bioc\R\bin\R.exe CMD INSTALL --build --library=basilisk.buildbin-libdir basilisk_1.12.1.tar.gz StartedAt: 2023-10-16 08:27:03 -0400 (Mon, 16 Oct 2023) EndedAt: 2023-10-16 08:27:19 -0400 (Mon, 16 Oct 2023) EllapsedTime: 15.6 seconds RetCode: 0 Status: OK PackageFile: basilisk_1.12.1.zip PackageFileSize: 313.5 KiB