Package: basilisk Version: 1.12.1 Command: rm -rf basilisk.buildbin-libdir && mkdir basilisk.buildbin-libdir && /Users/biocbuild/BBS/utils/build-universal.sh basilisk_1.12.1.tar.gz /Library/Frameworks/R.framework/Resources/bin/R basilisk.buildbin-libdir StartedAt: 2023-10-16 08:59:59 -0400 (Mon, 16 Oct 2023) EndedAt: 2023-10-16 09:00:33 -0400 (Mon, 16 Oct 2023) EllapsedTime: 34.7 seconds RetCode: 0 Status: OK PackageFile: basilisk_1.12.1.tgz PackageFileSize: 302.7 KiB