Package: arrayQualityMetrics Version: 3.56.0 Command: /Library/Frameworks/R.framework/Resources/bin/R CMD check --install=check:arrayQualityMetrics.install-out.txt --library=/Library/Frameworks/R.framework/Resources/library --no-vignettes --timings arrayQualityMetrics_3.56.0.tar.gz StartedAt: 2023-10-15 22:35:02 -0400 (Sun, 15 Oct 2023) EndedAt: 2023-10-15 22:41:30 -0400 (Sun, 15 Oct 2023) EllapsedTime: 388.1 seconds RetCode: 0 Status: OK CheckDir: arrayQualityMetrics.Rcheck Warnings: 0