Package: arrayQualityMetrics Version: 3.56.0 Command: rm -rf arrayQualityMetrics.buildbin-libdir && mkdir arrayQualityMetrics.buildbin-libdir && /Users/biocbuild/BBS/utils/build-universal.sh arrayQualityMetrics_3.56.0.tar.gz /Library/Frameworks/R.framework/Resources/bin/R arrayQualityMetrics.buildbin-libdir StartedAt: 2023-10-16 08:58:19 -0400 (Mon, 16 Oct 2023) EndedAt: 2023-10-16 08:59:47 -0400 (Mon, 16 Oct 2023) EllapsedTime: 87.5 seconds RetCode: 0 Status: OK PackageFile: arrayQualityMetrics_3.56.0.tgz PackageFileSize: 557.6 KiB