Package: arrayQuality Version: 1.78.0 Command: /home/biocbuild/bbs-3.17-bioc/R/bin/R CMD INSTALL arrayQuality StartedAt: 2023-10-15 15:10:14 -0400 (Sun, 15 Oct 2023) EndedAt: 2023-10-15 15:10:22 -0400 (Sun, 15 Oct 2023) EllapsedTime: 8.4 seconds RetCode: 0 Status: OK