Package: arrayMvout Version: 1.58.0 Command: /home/biocbuild/bbs-3.17-bioc/R/bin/R CMD check --install=check:arrayMvout.install-out.txt --library=/home/biocbuild/bbs-3.17-bioc/R/site-library --timings arrayMvout_1.58.0.tar.gz StartedAt: 2023-10-15 19:13:51 -0400 (Sun, 15 Oct 2023) EndedAt: 2023-10-15 19:19:17 -0400 (Sun, 15 Oct 2023) EllapsedTime: 326.3 seconds RetCode: 0 Status: OK CheckDir: arrayMvout.Rcheck Warnings: 0