Package: annotationTools Version: 1.74.0 Command: rm -rf annotationTools.buildbin-libdir && mkdir annotationTools.buildbin-libdir && /Users/biocbuild/BBS/utils/build-universal.sh annotationTools_1.74.0.tar.gz /Library/Frameworks/R.framework/Resources/bin/R annotationTools.buildbin-libdir StartedAt: 2023-10-16 08:57:48 -0400 (Mon, 16 Oct 2023) EndedAt: 2023-10-16 08:58:00 -0400 (Mon, 16 Oct 2023) EllapsedTime: 11.9 seconds RetCode: 0 Status: OK PackageFile: annotationTools_1.74.0.tgz PackageFileSize: 391.1 KiB