Package: annotate Version: 1.78.0 Command: /Library/Frameworks/R.framework/Resources/bin/R CMD check --install=check:annotate.install-out.txt --library=/Library/Frameworks/R.framework/Resources/library --no-vignettes --timings annotate_1.78.0.tar.gz StartedAt: 2023-10-15 22:29:53 -0400 (Sun, 15 Oct 2023) EndedAt: 2023-10-15 22:35:24 -0400 (Sun, 15 Oct 2023) EllapsedTime: 331.0 seconds RetCode: 1 Status: ERROR CheckDir: annotate.Rcheck Warnings: NA