Package: alabaster.string Version: 1.0.1 Command: /home/biocbuild/bbs-3.17-bioc/R/bin/R CMD build --keep-empty-dirs --no-resave-data alabaster.string StartedAt: 2023-10-15 15:54:07 -0400 (Sun, 15 Oct 2023) EndedAt: 2023-10-15 15:54:23 -0400 (Sun, 15 Oct 2023) EllapsedTime: 15.9 seconds RetCode: 0 Status: OK PackageFile: alabaster.string_1.0.1.tar.gz PackageFileSize: 219.7 KiB