Package: alabaster.matrix Version: 1.0.0 Command: /home/biocbuild/bbs-3.17-bioc/R/bin/R CMD INSTALL alabaster.matrix StartedAt: 2023-10-15 15:14:50 -0400 (Sun, 15 Oct 2023) EndedAt: 2023-10-15 15:15:04 -0400 (Sun, 15 Oct 2023) EllapsedTime: 14.6 seconds RetCode: 0 Status: OK