Package: alabaster.matrix Version: 1.0.0 Command: /home/biocbuild/bbs-3.17-bioc/R/bin/R CMD build --keep-empty-dirs --no-resave-data alabaster.matrix StartedAt: 2023-10-15 15:53:50 -0400 (Sun, 15 Oct 2023) EndedAt: 2023-10-15 15:54:11 -0400 (Sun, 15 Oct 2023) EllapsedTime: 20.8 seconds RetCode: 0 Status: OK PackageFile: alabaster.matrix_1.0.0.tar.gz PackageFileSize: 230.6 KiB