Package: alabaster.matrix Version: 1.0.0 Command: /Library/Frameworks/R.framework/Resources/bin/R CMD build --keep-empty-dirs --no-resave-data alabaster.matrix StartedAt: 2023-10-15 16:39:50 -0400 (Sun, 15 Oct 2023) EndedAt: 2023-10-15 16:40:43 -0400 (Sun, 15 Oct 2023) EllapsedTime: 53.0 seconds RetCode: 0 Status: OK PackageFile: alabaster.matrix_1.0.0.tar.gz PackageFileSize: 230.5 KiB