Package: alabaster.bumpy Version: 1.0.0 Command: /home/biocbuild/bbs-3.17-bioc/R/bin/R CMD INSTALL alabaster.bumpy StartedAt: 2023-10-15 15:15:02 -0400 (Sun, 15 Oct 2023) EndedAt: 2023-10-15 15:15:14 -0400 (Sun, 15 Oct 2023) EllapsedTime: 11.8 seconds RetCode: 0 Status: OK