Package: alabaster.bumpy Version: 1.0.0 Command: /Library/Frameworks/R.framework/Resources/bin/R CMD INSTALL alabaster.bumpy StartedAt: 2023-10-15 15:28:04 -0400 (Sun, 15 Oct 2023) EndedAt: 2023-10-15 15:28:41 -0400 (Sun, 15 Oct 2023) EllapsedTime: 37.2 seconds RetCode: 0 Status: OK