Package: aggregateBioVar Version: 1.10.0 Command: chmod a+r aggregateBioVar -R && F:\biocbuild\bbs-3.17-bioc\R\bin\R.exe CMD build --keep-empty-dirs --no-resave-data aggregateBioVar StartedAt: 2023-10-15 17:11:06 -0400 (Sun, 15 Oct 2023) EndedAt: 2023-10-15 17:12:29 -0400 (Sun, 15 Oct 2023) EllapsedTime: 82.8 seconds RetCode: 0 Status: OK PackageFile: aggregateBioVar_1.10.0.tar.gz PackageFileSize: 990 KiB