Package: aggregateBioVar Version: 1.10.0 Command: rm -rf aggregateBioVar.buildbin-libdir && mkdir aggregateBioVar.buildbin-libdir && F:\biocbuild\bbs-3.17-bioc\R\bin\R.exe CMD INSTALL --build --library=aggregateBioVar.buildbin-libdir aggregateBioVar_1.10.0.tar.gz StartedAt: 2023-10-16 08:23:34 -0400 (Mon, 16 Oct 2023) EndedAt: 2023-10-16 08:24:00 -0400 (Mon, 16 Oct 2023) EllapsedTime: 25.5 seconds RetCode: 0 Status: OK PackageFile: aggregateBioVar_1.10.0.zip PackageFileSize: 1.535 MiB