Package: a4Preproc Version: 1.48.0 Command: rm -rf a4Preproc.buildbin-libdir && mkdir a4Preproc.buildbin-libdir && /Users/biocbuild/BBS/utils/build-universal.sh a4Preproc_1.48.0.tar.gz /Library/Frameworks/R.framework/Resources/bin/R a4Preproc.buildbin-libdir StartedAt: 2023-10-16 08:56:17 -0400 (Mon, 16 Oct 2023) EndedAt: 2023-10-16 08:56:28 -0400 (Mon, 16 Oct 2023) EllapsedTime: 11.2 seconds RetCode: 0 Status: OK PackageFile: a4Preproc_1.48.0.tgz PackageFileSize: 296.6 KiB