Package: a4Core Version: 1.48.0 Command: rm -rf a4Core.buildbin-libdir && mkdir a4Core.buildbin-libdir && /Users/biocbuild/BBS/utils/build-universal.sh a4Core_1.48.0.tar.gz /Library/Frameworks/R.framework/Resources/bin/R a4Core.buildbin-libdir StartedAt: 2023-10-16 08:56:17 -0400 (Mon, 16 Oct 2023) EndedAt: 2023-10-16 08:56:44 -0400 (Mon, 16 Oct 2023) EllapsedTime: 27.1 seconds RetCode: 0 Status: OK PackageFile: a4Core_1.48.0.tgz PackageFileSize: 309 KiB