Package: a4Classif Version: 1.48.0 Command: /home/biocbuild/bbs-3.17-bioc/R/bin/R CMD INSTALL a4Classif StartedAt: 2023-10-15 15:36:18 -0400 (Sun, 15 Oct 2023) EndedAt: 2023-10-15 15:36:24 -0400 (Sun, 15 Oct 2023) EllapsedTime: 6.2 seconds RetCode: 0 Status: OK