Package: a4Classif Version: 1.48.0 Command: /home/biocbuild/bbs-3.17-bioc/R/bin/R CMD build --keep-empty-dirs --no-resave-data a4Classif StartedAt: 2023-10-15 15:52:56 -0400 (Sun, 15 Oct 2023) EndedAt: 2023-10-15 15:53:25 -0400 (Sun, 15 Oct 2023) EllapsedTime: 29.0 seconds RetCode: 0 Status: OK PackageFile: a4Classif_1.48.0.tar.gz PackageFileSize: 545.6 KiB