Package: a4Base Version: 1.48.0 Command: /home/biocbuild/bbs-3.17-bioc/R/bin/R CMD build --keep-empty-dirs --no-resave-data a4Base StartedAt: 2023-10-15 15:52:56 -0400 (Sun, 15 Oct 2023) EndedAt: 2023-10-15 15:52:57 -0400 (Sun, 15 Oct 2023) EllapsedTime: 1.0 seconds RetCode: 0 Status: OK PackageFile: a4Base_1.48.0.tar.gz PackageFileSize: 366.5 KiB