Package: XVector Version: 0.40.0 Command: /home/biocbuild/bbs-3.17-bioc/R/bin/R CMD build --keep-empty-dirs --no-resave-data XVector StartedAt: 2023-10-15 18:57:43 -0400 (Sun, 15 Oct 2023) EndedAt: 2023-10-15 18:57:44 -0400 (Sun, 15 Oct 2023) EllapsedTime: 1.0 seconds RetCode: 0 Status: OK PackageFile: XVector_0.40.0.tar.gz PackageFileSize: 66.24 KiB