Package: VariantExperiment Version: 1.14.0 Command: /Library/Frameworks/R.framework/Resources/bin/R CMD INSTALL VariantExperiment StartedAt: 2023-10-15 15:15:48 -0400 (Sun, 15 Oct 2023) EndedAt: 2023-10-15 15:17:02 -0400 (Sun, 15 Oct 2023) EllapsedTime: 73.6 seconds RetCode: 0 Status: OK