Package: VariantExperiment Version: 1.14.0 Command: /Library/Frameworks/R.framework/Resources/bin/R CMD build --keep-empty-dirs --no-resave-data VariantExperiment StartedAt: 2023-10-15 22:03:25 -0400 (Sun, 15 Oct 2023) EndedAt: 2023-10-15 22:05:17 -0400 (Sun, 15 Oct 2023) EllapsedTime: 111.1 seconds RetCode: 0 Status: OK PackageFile: VariantExperiment_1.14.0.tar.gz PackageFileSize: 326.4 KiB