Package: VarCon Version: 1.8.0 Command: /home/biocbuild/bbs-3.17-bioc/R/bin/R CMD INSTALL VarCon StartedAt: 2023-10-15 15:27:35 -0400 (Sun, 15 Oct 2023) EndedAt: 2023-10-15 15:28:12 -0400 (Sun, 15 Oct 2023) EllapsedTime: 36.1 seconds RetCode: 0 Status: OK