Package: VCFArray Version: 1.16.0 Command: /Library/Frameworks/R.framework/Resources/bin/R CMD check --install=check:VCFArray.install-out.txt --library=/Library/Frameworks/R.framework/Resources/library --no-vignettes --timings VCFArray_1.16.0.tar.gz StartedAt: 2023-10-16 08:28:00 -0400 (Mon, 16 Oct 2023) EndedAt: 2023-10-16 08:40:12 -0400 (Mon, 16 Oct 2023) EllapsedTime: 732.0 seconds RetCode: 0 Status: OK CheckDir: VCFArray.Rcheck Warnings: 0