Package: TreeSummarizedExperiment Version: 2.8.0 Command: F:\biocbuild\bbs-3.17-bioc\R\bin\R.exe CMD INSTALL TreeSummarizedExperiment StartedAt: 2023-10-15 16:14:27 -0400 (Sun, 15 Oct 2023) EndedAt: 2023-10-15 16:15:11 -0400 (Sun, 15 Oct 2023) EllapsedTime: 43.7 seconds RetCode: 0 Status: OK