Package: TreeSummarizedExperiment Version: 2.8.0 Command: chmod a+r TreeSummarizedExperiment -R && F:\biocbuild\bbs-3.17-bioc\R\bin\R.exe CMD build --keep-empty-dirs --no-resave-data TreeSummarizedExperiment StartedAt: 2023-10-15 22:55:40 -0400 (Sun, 15 Oct 2023) EndedAt: 2023-10-15 22:56:49 -0400 (Sun, 15 Oct 2023) EllapsedTime: 68.6 seconds RetCode: 0 Status: OK PackageFile: TreeSummarizedExperiment_2.8.0.tar.gz PackageFileSize: 1011 KiB