Package: TreeSummarizedExperiment Version: 2.8.0 Command: rm -rf TreeSummarizedExperiment.buildbin-libdir && mkdir TreeSummarizedExperiment.buildbin-libdir && F:\biocbuild\bbs-3.17-bioc\R\bin\R.exe CMD INSTALL --build --library=TreeSummarizedExperiment.buildbin-libdir TreeSummarizedExperiment_2.8.0.tar.gz StartedAt: 2023-10-16 09:40:36 -0400 (Mon, 16 Oct 2023) EndedAt: 2023-10-16 09:41:23 -0400 (Mon, 16 Oct 2023) EllapsedTime: 47.3 seconds RetCode: 0 Status: OK PackageFile: TreeSummarizedExperiment_2.8.0.zip PackageFileSize: 1.711 MiB