Package: TreeSummarizedExperiment Version: 2.8.0 Command: /home/biocbuild/bbs-3.17-bioc/R/bin/R CMD build --keep-empty-dirs --no-resave-data TreeSummarizedExperiment StartedAt: 2023-10-15 18:51:13 -0400 (Sun, 15 Oct 2023) EndedAt: 2023-10-15 18:52:09 -0400 (Sun, 15 Oct 2023) EllapsedTime: 56.0 seconds RetCode: 0 Status: OK PackageFile: TreeSummarizedExperiment_2.8.0.tar.gz PackageFileSize: 1.083 MiB