Package: TreeSummarizedExperiment Version: 2.8.0 Command: /Library/Frameworks/R.framework/Resources/bin/R CMD INSTALL TreeSummarizedExperiment StartedAt: 2023-10-15 15:22:10 -0400 (Sun, 15 Oct 2023) EndedAt: 2023-10-15 15:23:52 -0400 (Sun, 15 Oct 2023) EllapsedTime: 101.5 seconds RetCode: 0 Status: OK