Package: TreeSummarizedExperiment Version: 2.8.0 Command: /Library/Frameworks/R.framework/Resources/bin/R CMD build --keep-empty-dirs --no-resave-data TreeSummarizedExperiment StartedAt: 2023-10-15 21:58:29 -0400 (Sun, 15 Oct 2023) EndedAt: 2023-10-15 22:00:51 -0400 (Sun, 15 Oct 2023) EllapsedTime: 141.5 seconds RetCode: 0 Status: OK PackageFile: TreeSummarizedExperiment_2.8.0.tar.gz PackageFileSize: 1.089 MiB