Package: TrajectoryGeometry Version: 1.8.0 Command: rm -rf TrajectoryGeometry.buildbin-libdir && mkdir TrajectoryGeometry.buildbin-libdir && F:\biocbuild\bbs-3.17-bioc\R\bin\R.exe CMD INSTALL --build --library=TrajectoryGeometry.buildbin-libdir TrajectoryGeometry_1.8.0.tar.gz StartedAt: 2023-10-16 09:40:09 -0400 (Mon, 16 Oct 2023) EndedAt: 2023-10-16 09:40:19 -0400 (Mon, 16 Oct 2023) EllapsedTime: 9.8 seconds RetCode: 0 Status: OK PackageFile: TrajectoryGeometry_1.8.0.zip PackageFileSize: 1.214 MiB