Package: TrajectoryGeometry Version: 1.8.0 Command: /home/biocbuild/bbs-3.17-bioc/R/bin/R CMD INSTALL TrajectoryGeometry StartedAt: 2023-10-15 15:26:17 -0400 (Sun, 15 Oct 2023) EndedAt: 2023-10-15 15:26:22 -0400 (Sun, 15 Oct 2023) EllapsedTime: 5.1 seconds RetCode: 0 Status: OK