Package: TrajectoryGeometry Version: 1.8.0 Command: /Library/Frameworks/R.framework/Resources/bin/R CMD build --keep-empty-dirs --no-resave-data TrajectoryGeometry StartedAt: 2023-10-15 21:56:46 -0400 (Sun, 15 Oct 2023) EndedAt: 2023-10-15 22:12:53 -0400 (Sun, 15 Oct 2023) EllapsedTime: 967.3 seconds RetCode: 0 Status: OK PackageFile: TrajectoryGeometry_1.8.0.tar.gz PackageFileSize: 1.785 MiB