Package: TissueEnrich Version: 1.20.0 Command: /home/biocbuild/bbs-3.17-bioc/R/bin/R CMD build --keep-empty-dirs --no-resave-data TissueEnrich StartedAt: 2023-10-15 18:49:02 -0400 (Sun, 15 Oct 2023) EndedAt: 2023-10-15 18:49:52 -0400 (Sun, 15 Oct 2023) EllapsedTime: 49.6 seconds RetCode: 0 Status: OK PackageFile: TissueEnrich_1.20.0.tar.gz PackageFileSize: 3.507 MiB