Package: TTMap Version: 1.22.0 Command: /home/biocbuild/bbs-3.17-bioc/R/bin/R CMD INSTALL TTMap StartedAt: 2023-10-15 15:27:43 -0400 (Sun, 15 Oct 2023) EndedAt: 2023-10-15 15:28:04 -0400 (Sun, 15 Oct 2023) EllapsedTime: 21.5 seconds RetCode: 0 Status: OK