Package: TFBSTools Version: 1.38.0 Command: rm -rf TFBSTools.buildbin-libdir && mkdir TFBSTools.buildbin-libdir && /Users/biocbuild/BBS/utils/build-universal.sh TFBSTools_1.38.0.tar.gz /Library/Frameworks/R.framework/Resources/bin/R TFBSTools.buildbin-libdir StartedAt: 2023-10-16 10:20:46 -0400 (Mon, 16 Oct 2023) EndedAt: 2023-10-16 10:23:29 -0400 (Mon, 16 Oct 2023) EllapsedTime: 162.3 seconds RetCode: 0 Status: OK PackageFile: TFBSTools_1.38.0.tgz PackageFileSize: 1.6 MiB