Package: TAPseq Version: 1.12.0 Command: /home/biocbuild/bbs-3.17-bioc/R/bin/R CMD INSTALL TAPseq StartedAt: 2023-10-15 15:23:05 -0400 (Sun, 15 Oct 2023) EndedAt: 2023-10-15 15:23:46 -0400 (Sun, 15 Oct 2023) EllapsedTime: 41.0 seconds RetCode: 0 Status: OK