Package: SynExtend Version: 1.12.0 Command: /home/biocbuild/bbs-3.17-bioc/R/bin/R CMD build --keep-empty-dirs --no-resave-data SynExtend StartedAt: 2023-10-15 18:45:36 -0400 (Sun, 15 Oct 2023) EndedAt: 2023-10-15 18:46:16 -0400 (Sun, 15 Oct 2023) EllapsedTime: 39.4 seconds RetCode: 0 Status: OK PackageFile: SynExtend_1.12.0.tar.gz PackageFileSize: 2.126 MiB