Package: SummarizedExperiment Version: 1.30.2 Command: /home/biocbuild/bbs-3.17-bioc/R/bin/R CMD INSTALL SummarizedExperiment StartedAt: 2023-10-15 15:11:10 -0400 (Sun, 15 Oct 2023) EndedAt: 2023-10-15 15:11:36 -0400 (Sun, 15 Oct 2023) EllapsedTime: 26.1 seconds RetCode: 0 Status: OK