Package: SummarizedBenchmark Version: 2.18.0 Command: /home/biocbuild/bbs-3.17-bioc/R/bin/R CMD build --keep-empty-dirs --no-resave-data SummarizedBenchmark StartedAt: 2023-10-15 18:44:20 -0400 (Sun, 15 Oct 2023) EndedAt: 2023-10-15 18:48:26 -0400 (Sun, 15 Oct 2023) EllapsedTime: 245.7 seconds RetCode: 0 Status: OK PackageFile: SummarizedBenchmark_2.18.0.tar.gz PackageFileSize: 6.454 MiB