Package: SubCellBarCode Version: 1.16.0 Command: F:\biocbuild\bbs-3.17-bioc\R\bin\R.exe CMD INSTALL SubCellBarCode StartedAt: 2023-10-15 16:47:39 -0400 (Sun, 15 Oct 2023) EndedAt: 2023-10-15 16:48:11 -0400 (Sun, 15 Oct 2023) EllapsedTime: 32.4 seconds RetCode: 0 Status: OK