Package: SubCellBarCode Version: 1.16.0 Command: chmod a+r SubCellBarCode -R && F:\biocbuild\bbs-3.17-bioc\R\bin\R.exe CMD build --keep-empty-dirs --no-resave-data SubCellBarCode StartedAt: 2023-10-15 22:43:34 -0400 (Sun, 15 Oct 2023) EndedAt: 2023-10-15 22:48:26 -0400 (Sun, 15 Oct 2023) EllapsedTime: 292.1 seconds RetCode: 0 Status: OK PackageFile: SubCellBarCode_1.16.0.tar.gz PackageFileSize: 1.339 MiB