Package: SubCellBarCode Version: 1.16.0 Command: rm -rf SubCellBarCode.buildbin-libdir && mkdir SubCellBarCode.buildbin-libdir && F:\biocbuild\bbs-3.17-bioc\R\bin\R.exe CMD INSTALL --build --library=SubCellBarCode.buildbin-libdir SubCellBarCode_1.16.0.tar.gz StartedAt: 2023-10-16 09:37:11 -0400 (Mon, 16 Oct 2023) EndedAt: 2023-10-16 09:37:41 -0400 (Mon, 16 Oct 2023) EllapsedTime: 29.7 seconds RetCode: 0 Status: OK PackageFile: SubCellBarCode_1.16.0.zip PackageFileSize: 1.761 MiB